BEGIN:VCALENDAR
VERSION:2.0
PRODID:-//Halte Espoir - ECPv6.7.0//NONSGML v1.0//EN
CALSCALE:GREGORIAN
METHOD:PUBLISH
X-ORIGINAL-URL:https://halteespoir.ca
X-WR-CALDESC:Events for Halte Espoir
REFRESH-INTERVAL;VALUE=DURATION:PT1H
X-Robots-Tag:noindex
X-PUBLISHED-TTL:PT1H
BEGIN:VTIMEZONE
TZID:America/Toronto
BEGIN:DAYLIGHT
TZOFFSETFROM:-0500
TZOFFSETTO:-0400
TZNAME:EDT
DTSTART:20260308T070000
END:DAYLIGHT
BEGIN:STANDARD
TZOFFSETFROM:-0400
TZOFFSETTO:-0500
TZNAME:EST
DTSTART:20261101T060000
END:STANDARD
END:VTIMEZONE
BEGIN:VEVENT
DTSTART;TZID=America/Toronto:20260402T190000
DTEND;TZID=America/Toronto:20260402T203000
DTSTAMP:20260419T112015
CREATED:20260311T145541Z
LAST-MODIFIED:20260311T145541Z
UID:4643-1775156400-1775161800@halteespoir.ca
SUMMARY:Soirée cinéma
DESCRIPTION:Soirée cinéma pour tout âge\n JEUDI 2 AVRIL – 19 H\n\n\n\n\n\nLa vie de Jésus à travers les yeux des enfants\nPOPCORN et BREUVAGES GRATUITS!
URL:https://halteespoir.ca/event/soiree-cinema/
LOCATION:570 av de Buckingham\, Gatineau\, J8L 2H3
ATTACH;FMTTYPE=image/png:https://halteespoir.ca/wp-content/uploads/2026/03/Affiche-pancarte-sandwich.png
END:VEVENT
END:VCALENDAR