BEGIN:VCALENDAR
VERSION:2.0
PRODID:-//Halte Espoir - ECPv6.7.0//NONSGML v1.0//EN
CALSCALE:GREGORIAN
METHOD:PUBLISH
X-ORIGINAL-URL:https://halteespoir.ca
X-WR-CALDESC:Events for Halte Espoir
REFRESH-INTERVAL;VALUE=DURATION:PT1H
X-Robots-Tag:noindex
X-PUBLISHED-TTL:PT1H
BEGIN:VTIMEZONE
TZID:America/Toronto
BEGIN:DAYLIGHT
TZOFFSETFROM:-0500
TZOFFSETTO:-0400
TZNAME:EDT
DTSTART:20250309T070000
END:DAYLIGHT
BEGIN:STANDARD
TZOFFSETFROM:-0400
TZOFFSETTO:-0500
TZNAME:EST
DTSTART:20251102T060000
END:STANDARD
END:VTIMEZONE
BEGIN:VEVENT
DTSTART;TZID=America/Toronto:20250503T110000
DTEND;TZID=America/Toronto:20250503T130000
DTSTAMP:20260425T163126
CREATED:20250401T012224Z
LAST-MODIFIED:20250401T013333Z
UID:4596-1746270000-1746277200@halteespoir.ca
SUMMARY:Brunch gratuit 3 mai 2025
DESCRIPTION:BRUNCH GRATUIT suivi de la diffusion du témoignage de Guy Bourassa\nSais-tu où tu vas quand tu vas mourir?\nCette question fut l’élément déclencheur dans son cheminement spirituel. \nAppelez-nous pour réserver votre place! \n 343-202-5213 
URL:https://halteespoir.ca/event/brunch-gratuit-3-mai-2025/
LOCATION:Halte Espoir\, 570 av de Buckingham\, Gatineau\, QC\, J8L 2H3\, Canada
CATEGORIES:Événements à venir
ATTACH;FMTTYPE=image/jpeg:https://halteespoir.ca/wp-content/uploads/2024/10/Brunch-Evenement-image_site-Web-scaled.jpg
END:VEVENT
END:VCALENDAR